View In:
ArcGIS JavaScript
ArcGIS Online Map Viewer
ArcGIS Earth
Service Description: Aerials for Broward County urban extent. The current year provided by BCPA. Color Aerials Hi-Res All County Uncompressed hi-resolution county-wide individual .tif files.-Approx. 460 .tif files with accompanying tiff world (.tfw) files.-Approx. 275 GB total, each .tiff weighs between 500 MB to 900 MB-6 inch pixel resolution-Files are carved out of Township Range Section grid-Projection: North American 83 Florida East (US Foot).
Name: Imagery/aerialscurrent
Description: Aerials for Broward County urban extent. The current year provided by BCPA. Color Aerials Hi-Res All County Uncompressed hi-resolution county-wide individual .tif files.-Approx. 460 .tif files with accompanying tiff world (.tfw) files.-Approx. 275 GB total, each .tiff weighs between 500 MB to 900 MB-6 inch pixel resolution-Files are carved out of Township Range Section grid-Projection: North American 83 Florida East (US Foot).
Single Fused Map Cache: false
Extent:
XMin: -8956651.0449
YMin: 2993720.9232259574
XMax: -8913354.423106756
YMax: 3044207.9437999986
Spatial Reference: 102100
(3857)
LatestVCSWkid(0)
Initial Extent:
XMin: -8956651.0449
YMin: 2993720.9232259574
XMax: -8913354.423106756
YMax: 3044207.9437999986
Spatial Reference: 102100
(3857)
LatestVCSWkid(0)
Full Extent:
XMin: -8956651.0449
YMin: 2993720.9232259574
XMax: -8913354.423106756
YMax: 3044207.9437999986
Spatial Reference: 102100
(3857)
LatestVCSWkid(0)
Pixel Size X: 0.15240030480061117
Pixel Size Y: 0.15240030480060968
Band Count: 3
Pixel Type: U8
RasterFunction Infos: {"rasterFunctionInfos": [{
"name": "None",
"description": "Make a Raster or Raster Dataset into a Function Raster Dataset.",
"help": ""
}]}
Mensuration Capabilities:
Inspection Capabilities:
Has Histograms: true
Has Colormap: false
Has Multi Dimensions : false
Rendering Rule:
Min Scale: 0
Max Scale: 0
Copyright Text: BCPA, BCGIS
Service Data Type: esriImageServiceDataTypeRGB
Min Values: 0, 0, 0
Max Values: 255, 255, 255
Mean Values: 95.21812765524379, 103.0710180110076, 90.32324603774536
Standard Deviation Values: 63.070593854846926, 58.944531510136244, 56.75580640263732
Object ID Field: OBJECTID
Fields:
-
OBJECTID
(
type: esriFieldTypeOID, alias: OBJECTID
)
-
Shape
(
type: esriFieldTypeGeometry, alias: Shape
)
-
Name
(
type: esriFieldTypeString, alias: Name, length: 200
)
-
MinPS
(
type: esriFieldTypeDouble, alias: MinPS
)
-
MaxPS
(
type: esriFieldTypeDouble, alias: MaxPS
)
-
LowPS
(
type: esriFieldTypeDouble, alias: LowPS
)
-
HighPS
(
type: esriFieldTypeDouble, alias: HighPS
)
-
Category
(
type: esriFieldTypeInteger, alias: Category
,
Coded Values:
[0: Unknown]
,
[1: Primary]
,
[2: Overview]
, ...6 more...
)
-
Tag
(
type: esriFieldTypeString, alias: Tag, length: 100
)
-
GroupName
(
type: esriFieldTypeString, alias: GroupName, length: 100
)
-
ProductName
(
type: esriFieldTypeString, alias: ProductName, length: 100
)
-
CenterX
(
type: esriFieldTypeDouble, alias: CenterX
)
-
CenterY
(
type: esriFieldTypeDouble, alias: CenterY
)
-
ZOrder
(
type: esriFieldTypeInteger, alias: ZOrder
)
-
Shape_Length
(
type: esriFieldTypeDouble, alias: Shape_Length
)
-
Shape_Area
(
type: esriFieldTypeDouble, alias: Shape_Area
)
Default Mosaic Method: Northwest
Allowed Mosaic Methods: NorthWest,Center,LockRaster,ByAttribute,Nadir,Viewpoint,Seamline,None
SortField:
SortValue: null
Mosaic Operator: First
Default Compression Quality: 75
Default Resampling Method: Bilinear
Max Record Count: 1000
Max Image Height: 4100
Max Image Width: 15000
Max Download Image Count: 20
Max Mosaic Image Count: 450
Allow Raster Function: true
Allow Copy: true
Allow Analysis: true
Allow Compute TiePoints: false
Supports Statistics: true
Supports Advanced Queries: true
Use StandardizedQueries: true
Raster Type Infos:
Name: Raster Dataset
Description: Supports all ArcGIS Raster Datasets
Help:
Has Raster Attribute Table: false
Edit Fields Info: null
Ownership Based AccessControl For Rasters: null
Child Resources:
Info
Histograms
Statistics
Key Properties
Legend
Raster Function Infos
Supported Operations:
Export Image
Query
Identify
Compute Histograms
Compute Statistics Histograms
Get Samples
Compute Class Statistics
Query GPS Info
Find Images
Image to Map
Map to Image
Measure from Image
Image to Map Multiray
Query Boundary
Compute Pixel Location
Compute Angles
Validate
Project